BEGIN:VCALENDAR
VERSION:2.0
PRODID:-//OUUF - ECPv6.15.20//NONSGML v1.0//EN
CALSCALE:GREGORIAN
METHOD:PUBLISH
X-WR-CALNAME:OUUF
X-ORIGINAL-URL:https://olympicuuf.com
X-WR-CALDESC:Events for OUUF
REFRESH-INTERVAL;VALUE=DURATION:PT1H
X-Robots-Tag:noindex
X-PUBLISHED-TTL:PT1H
BEGIN:VTIMEZONE
TZID:America/Los_Angeles
BEGIN:DAYLIGHT
TZOFFSETFROM:-0800
TZOFFSETTO:-0700
TZNAME:PDT
DTSTART:20250309T100000
END:DAYLIGHT
BEGIN:STANDARD
TZOFFSETFROM:-0700
TZOFFSETTO:-0800
TZNAME:PST
DTSTART:20251102T090000
END:STANDARD
BEGIN:DAYLIGHT
TZOFFSETFROM:-0800
TZOFFSETTO:-0700
TZNAME:PDT
DTSTART:20260308T100000
END:DAYLIGHT
BEGIN:STANDARD
TZOFFSETFROM:-0700
TZOFFSETTO:-0800
TZNAME:PST
DTSTART:20261101T090000
END:STANDARD
BEGIN:DAYLIGHT
TZOFFSETFROM:-0800
TZOFFSETTO:-0700
TZNAME:PDT
DTSTART:20270314T100000
END:DAYLIGHT
BEGIN:STANDARD
TZOFFSETFROM:-0700
TZOFFSETTO:-0800
TZNAME:PST
DTSTART:20271107T090000
END:STANDARD
END:VTIMEZONE
BEGIN:VEVENT
DTSTART;TZID=America/Los_Angeles:20260322T100000
DTEND;TZID=America/Los_Angeles:20260322T110000
DTSTAMP:20260422T153358
CREATED:20251206T211934Z
LAST-MODIFIED:20251206T212130Z
UID:10013256-1774173600-1774177200@olympicuuf.com
SUMMARY:Meeting in Library
DESCRIPTION:Weekly meeting to discuss OUUF business items \nJoan C\,  Dianne  W\,. Elinor T and others
URL:https://olympicuuf.com/event/ouuf-meeting-in-library/2026-03-22/
LOCATION:Library
END:VEVENT
BEGIN:VEVENT
DTSTART;TZID=America/Los_Angeles:20260322T110000
DTEND;TZID=America/Los_Angeles:20260322T130000
DTSTAMP:20260422T153358
CREATED:20241229T015737Z
LAST-MODIFIED:20251216T012422Z
UID:10013861-1774177200-1774184400@olympicuuf.com
SUMMARY:Sunday Service
DESCRIPTION:OUUF Sunday Services feature a rotating group of speakers.\nAttend in-person or via Zoom.\nFor more info\, please visit the OUUF home page or contact the Administrator\nolympicuuf@outlook.com
URL:https://olympicuuf.com/event/sunday-service-3/2026-03-22/
LOCATION:Fellowship Hall
CATEGORIES:OUUF
END:VEVENT
BEGIN:VEVENT
DTSTART;TZID=America/Los_Angeles:20260322T123000
DTEND;TZID=America/Los_Angeles:20260322T133000
DTSTAMP:20260422T153358
CREATED:20251218T220937Z
LAST-MODIFIED:20251218T220937Z
UID:10014171-1774182600-1774186200@olympicuuf.com
SUMMARY:OUUF Recorder Group
DESCRIPTION:Contact: Candace Brower  candacebrower@gmail.com
URL:https://olympicuuf.com/event/ouuf-recorder-group-2/2026-03-22/
END:VEVENT
BEGIN:VEVENT
DTSTART;TZID=America/Los_Angeles:20260322T150000
DTEND;TZID=America/Los_Angeles:20260322T170000
DTSTAMP:20260422T153358
CREATED:20251126T174216Z
LAST-MODIFIED:20251126T174216Z
UID:10012744-1774191600-1774198800@olympicuuf.com
SUMMARY:Beginning Hebrew Lessons (COBS)
DESCRIPTION:Contact: \n\n\n\nRobert Cheiffetz at robertcheiffetz@gmail.com
URL:https://olympicuuf.com/event/beginning-hebrew-lessons-cobs/2026-03-22/
END:VEVENT
END:VCALENDAR