BEGIN:VCALENDAR
VERSION:2.0
PRODID:-//OUUF - ECPv6.15.20//NONSGML v1.0//EN
CALSCALE:GREGORIAN
METHOD:PUBLISH
X-WR-CALNAME:OUUF
X-ORIGINAL-URL:https://olympicuuf.com
X-WR-CALDESC:Events for OUUF
REFRESH-INTERVAL;VALUE=DURATION:PT1H
X-Robots-Tag:noindex
X-PUBLISHED-TTL:PT1H
BEGIN:VTIMEZONE
TZID:America/Los_Angeles
BEGIN:DAYLIGHT
TZOFFSETFROM:-0800
TZOFFSETTO:-0700
TZNAME:PDT
DTSTART:20250309T100000
END:DAYLIGHT
BEGIN:STANDARD
TZOFFSETFROM:-0700
TZOFFSETTO:-0800
TZNAME:PST
DTSTART:20251102T090000
END:STANDARD
BEGIN:DAYLIGHT
TZOFFSETFROM:-0800
TZOFFSETTO:-0700
TZNAME:PDT
DTSTART:20260308T100000
END:DAYLIGHT
BEGIN:STANDARD
TZOFFSETFROM:-0700
TZOFFSETTO:-0800
TZNAME:PST
DTSTART:20261101T090000
END:STANDARD
BEGIN:DAYLIGHT
TZOFFSETFROM:-0800
TZOFFSETTO:-0700
TZNAME:PDT
DTSTART:20270314T100000
END:DAYLIGHT
BEGIN:STANDARD
TZOFFSETFROM:-0700
TZOFFSETTO:-0800
TZNAME:PST
DTSTART:20271107T090000
END:STANDARD
END:VTIMEZONE
BEGIN:VEVENT
DTSTART;TZID=America/Los_Angeles:20260428T093000
DTEND;TZID=America/Los_Angeles:20260428T113000
DTSTAMP:20260422T094548
CREATED:20260212T171809Z
LAST-MODIFIED:20260212T171809Z
UID:10015519-1777368600-1777375800@olympicuuf.com
SUMMARY:Tai Ji Quan for better balance
DESCRIPTION:classes are opening \nenrollments for all seniors. \n*For more information on the dance class and to register please call Marsha Melnick PT\, PhD at 360-808-3109.\nor call Peggy Scheideler PT at 760-518-4181.
URL:https://olympicuuf.com/event/tai-ji-quan-for-better-balance/2026-04-28/
LOCATION:Fellowship Hall
END:VEVENT
BEGIN:VEVENT
DTSTART;TZID=America/Los_Angeles:20260428T113000
DTEND;TZID=America/Los_Angeles:20260428T133000
DTSTAMP:20260422T094548
CREATED:20260301T162306Z
LAST-MODIFIED:20260301T162306Z
UID:10015602-1777375800-1777383000@olympicuuf.com
SUMMARY:Sequim Food Bank Mobile
DESCRIPTION:Weekly distribution of items.  Mobile unit parked in parking lot close to the handicap parking area. \n 
URL:https://olympicuuf.com/event/sequim-food-bank-mobile/2026-04-28/
LOCATION:grounds
CATEGORIES:Special Event!
END:VEVENT
BEGIN:VEVENT
DTSTART;TZID=America/Los_Angeles:20260428T170000
DTEND;TZID=America/Los_Angeles:20260428T183000
DTSTAMP:20260422T094548
CREATED:20260110T182911Z
LAST-MODIFIED:20260223T175449Z
UID:10015533-1777395600-1777401000@olympicuuf.com
SUMMARY:Kid's Night Out CRE & Family Outreach
DESCRIPTION:contact:  Rose Prestipino
URL:https://olympicuuf.com/event/kids-night-out-cre-family-outreach/2026-04-28/
END:VEVENT
END:VCALENDAR