BEGIN:VCALENDAR
VERSION:2.0
PRODID:-//OUUF - ECPv6.15.20//NONSGML v1.0//EN
CALSCALE:GREGORIAN
METHOD:PUBLISH
X-ORIGINAL-URL:https://olympicuuf.com
X-WR-CALDESC:Events for OUUF
REFRESH-INTERVAL;VALUE=DURATION:PT1H
X-Robots-Tag:noindex
X-PUBLISHED-TTL:PT1H
BEGIN:VTIMEZONE
TZID:America/Los_Angeles
BEGIN:DAYLIGHT
TZOFFSETFROM:-0800
TZOFFSETTO:-0700
TZNAME:PDT
DTSTART:20250309T100000
END:DAYLIGHT
BEGIN:STANDARD
TZOFFSETFROM:-0700
TZOFFSETTO:-0800
TZNAME:PST
DTSTART:20251102T090000
END:STANDARD
BEGIN:DAYLIGHT
TZOFFSETFROM:-0800
TZOFFSETTO:-0700
TZNAME:PDT
DTSTART:20260308T100000
END:DAYLIGHT
BEGIN:STANDARD
TZOFFSETFROM:-0700
TZOFFSETTO:-0800
TZNAME:PST
DTSTART:20261101T090000
END:STANDARD
BEGIN:DAYLIGHT
TZOFFSETFROM:-0800
TZOFFSETTO:-0700
TZNAME:PDT
DTSTART:20270314T100000
END:DAYLIGHT
BEGIN:STANDARD
TZOFFSETFROM:-0700
TZOFFSETTO:-0800
TZNAME:PST
DTSTART:20271107T090000
END:STANDARD
END:VTIMEZONE
BEGIN:VEVENT
DTSTART;TZID=America/Los_Angeles:20260515T100000
DTEND;TZID=America/Los_Angeles:20260515T120000
DTSTAMP:20260422T122805
CREATED:20250512T230158Z
LAST-MODIFIED:20250512T230159Z
UID:10008890-1778839200-1778846400@olympicuuf.com
SUMMARY:Landscaping/Rain Garden Maintenance
DESCRIPTION:The landscape committee will be working on grounds maintenance.  The Rain Garden will also be weeded at this time.
URL:https://olympicuuf.com/event/grounds-maintenance-2-2/2026-05-15/
LOCATION:grounds
END:VEVENT
BEGIN:VEVENT
DTSTART;TZID=America/Los_Angeles:20260515T140000
DTEND;TZID=America/Los_Angeles:20260515T163000
DTSTAMP:20260422T122805
CREATED:20260207T141020Z
LAST-MODIFIED:20260207T141020Z
UID:10015017-1778853600-1778862600@olympicuuf.com
SUMMARY:Sound Bath Meditation
DESCRIPTION:In collaboration with West Wind Sound Sessions\, we invite you to a meditative Sound Bath. \n  \nDoors open at 2:30 for attendees to setup a comfortable spot to lie down as desired. \nAttendees will find a relaxing place to allow an immersive sound experience to clear their minds\, reset their nervous system\, and help promote centering. \nTwo talented musicians will offer up an hour and a half of healing sounds and music to facilitate each attendee’s meditation. \nTarek Webber – handpan\, singing bowls\, digeridoo\, guitar\, hand percussion\, and voice \nHarmony Rutter – voice and hand percussion \nYou are encouraged to bring a comfy folding chair\, pillows\, bolsters\, portable mattresses\, thick blankets\, or other comfort items you may need to help you get as horizontal as you would like. Please arrive early to setup your comfort items as needed. The Fellowship Hall has a flat wooden floor. \nMonetary contributions for the musicians are appreciated. \n“When we give ourselves the chance to let go of all our tension\, the body’s natural capacity to heal itself can begin to work.” -Thich Nhat Hanh
URL:https://olympicuuf.com/event/sound-bath-meditation/2026-05-15/
LOCATION:Fellowship Hall
CATEGORIES:Special Event!
END:VEVENT
BEGIN:VEVENT
DTSTART;TZID=America/Los_Angeles:20260515T183000
DTEND;TZID=America/Los_Angeles:20260515T210000
DTSTAMP:20260422T122805
CREATED:20250208T211829Z
LAST-MODIFIED:20251119T174028Z
UID:10012706-1778869800-1778878800@olympicuuf.com
SUMMARY:NA Meeting
DESCRIPTION:Local Men’s Group meeting of Narcotics Anonymous \nFor more info please visit nopana.org
URL:https://olympicuuf.com/event/na-meeting-10-2/2026-05-15/
LOCATION:Fellowship Hall
END:VEVENT
END:VCALENDAR