BEGIN:VCALENDAR
VERSION:2.0
PRODID:-//OUUF - ECPv6.15.20//NONSGML v1.0//EN
CALSCALE:GREGORIAN
METHOD:PUBLISH
X-WR-CALNAME:OUUF
X-ORIGINAL-URL:https://olympicuuf.com
X-WR-CALDESC:Events for OUUF
REFRESH-INTERVAL;VALUE=DURATION:PT1H
X-Robots-Tag:noindex
X-PUBLISHED-TTL:PT1H
BEGIN:VTIMEZONE
TZID:America/Los_Angeles
BEGIN:DAYLIGHT
TZOFFSETFROM:-0800
TZOFFSETTO:-0700
TZNAME:PDT
DTSTART:20250309T100000
END:DAYLIGHT
BEGIN:STANDARD
TZOFFSETFROM:-0700
TZOFFSETTO:-0800
TZNAME:PST
DTSTART:20251102T090000
END:STANDARD
BEGIN:DAYLIGHT
TZOFFSETFROM:-0800
TZOFFSETTO:-0700
TZNAME:PDT
DTSTART:20260308T100000
END:DAYLIGHT
BEGIN:STANDARD
TZOFFSETFROM:-0700
TZOFFSETTO:-0800
TZNAME:PST
DTSTART:20261101T090000
END:STANDARD
BEGIN:DAYLIGHT
TZOFFSETFROM:-0800
TZOFFSETTO:-0700
TZNAME:PDT
DTSTART:20270314T100000
END:DAYLIGHT
BEGIN:STANDARD
TZOFFSETFROM:-0700
TZOFFSETTO:-0800
TZNAME:PST
DTSTART:20271107T090000
END:STANDARD
END:VTIMEZONE
BEGIN:VEVENT
DTSTART;TZID=America/Los_Angeles:20260517T100000
DTEND;TZID=America/Los_Angeles:20260517T110000
DTSTAMP:20260422T171610
CREATED:20251206T211934Z
LAST-MODIFIED:20251206T212130Z
UID:10013264-1779012000-1779015600@olympicuuf.com
SUMMARY:Meeting in Library
DESCRIPTION:Weekly meeting to discuss OUUF business items \nJoan C\,  Dianne  W\,. Elinor T and others
URL:https://olympicuuf.com/event/ouuf-meeting-in-library/2026-05-17/
LOCATION:Library
END:VEVENT
BEGIN:VEVENT
DTSTART;TZID=America/Los_Angeles:20260517T110000
DTEND;TZID=America/Los_Angeles:20260517T130000
DTSTAMP:20260422T171610
CREATED:20241229T015737Z
LAST-MODIFIED:20251216T012422Z
UID:10013869-1779015600-1779022800@olympicuuf.com
SUMMARY:Sunday Service
DESCRIPTION:OUUF Sunday Services feature a rotating group of speakers.\nAttend in-person or via Zoom.\nFor more info\, please visit the OUUF home page or contact the Administrator\nolympicuuf@outlook.com
URL:https://olympicuuf.com/event/sunday-service-3/2026-05-17/
LOCATION:Fellowship Hall
CATEGORIES:OUUF
END:VEVENT
BEGIN:VEVENT
DTSTART;TZID=America/Los_Angeles:20260517T123000
DTEND;TZID=America/Los_Angeles:20260517T140000
DTSTAMP:20260422T171610
CREATED:20250509T143353Z
LAST-MODIFIED:20250509T143353Z
UID:10008830-1779021000-1779026400@olympicuuf.com
SUMMARY:Potluck
DESCRIPTION:3rd Sunday after-service potluck \n 
URL:https://olympicuuf.com/event/potluck/2026-05-17/
LOCATION:Fellowship Hall
END:VEVENT
END:VCALENDAR