BEGIN:VCALENDAR
VERSION:2.0
PRODID:-//OUUF - ECPv6.15.20//NONSGML v1.0//EN
CALSCALE:GREGORIAN
METHOD:PUBLISH
X-WR-CALNAME:OUUF
X-ORIGINAL-URL:https://olympicuuf.com
X-WR-CALDESC:Events for OUUF
REFRESH-INTERVAL;VALUE=DURATION:PT1H
X-Robots-Tag:noindex
X-PUBLISHED-TTL:PT1H
BEGIN:VTIMEZONE
TZID:America/Los_Angeles
BEGIN:DAYLIGHT
TZOFFSETFROM:-0800
TZOFFSETTO:-0700
TZNAME:PDT
DTSTART:20250309T100000
END:DAYLIGHT
BEGIN:STANDARD
TZOFFSETFROM:-0700
TZOFFSETTO:-0800
TZNAME:PST
DTSTART:20251102T090000
END:STANDARD
BEGIN:DAYLIGHT
TZOFFSETFROM:-0800
TZOFFSETTO:-0700
TZNAME:PDT
DTSTART:20260308T100000
END:DAYLIGHT
BEGIN:STANDARD
TZOFFSETFROM:-0700
TZOFFSETTO:-0800
TZNAME:PST
DTSTART:20261101T090000
END:STANDARD
BEGIN:DAYLIGHT
TZOFFSETFROM:-0800
TZOFFSETTO:-0700
TZNAME:PDT
DTSTART:20270314T100000
END:DAYLIGHT
BEGIN:STANDARD
TZOFFSETFROM:-0700
TZOFFSETTO:-0800
TZNAME:PST
DTSTART:20271107T090000
END:STANDARD
END:VTIMEZONE
BEGIN:VEVENT
DTSTART;TZID=America/Los_Angeles:20260519T093000
DTEND;TZID=America/Los_Angeles:20260519T113000
DTSTAMP:20260422T170848
CREATED:20260212T171809Z
LAST-MODIFIED:20260212T171809Z
UID:10015522-1779183000-1779190200@olympicuuf.com
SUMMARY:Tai Ji Quan for better balance
DESCRIPTION:classes are opening \nenrollments for all seniors. \n*For more information on the dance class and to register please call Marsha Melnick PT\, PhD at 360-808-3109.\nor call Peggy Scheideler PT at 760-518-4181.
URL:https://olympicuuf.com/event/tai-ji-quan-for-better-balance/2026-05-19/
LOCATION:Fellowship Hall
END:VEVENT
BEGIN:VEVENT
DTSTART;TZID=America/Los_Angeles:20260519T113000
DTEND;TZID=America/Los_Angeles:20260519T133000
DTSTAMP:20260422T170848
CREATED:20260301T162306Z
LAST-MODIFIED:20260301T162306Z
UID:10015605-1779190200-1779197400@olympicuuf.com
SUMMARY:Sequim Food Bank Mobile
DESCRIPTION:Weekly distribution of items.  Mobile unit parked in parking lot close to the handicap parking area. \n 
URL:https://olympicuuf.com/event/sequim-food-bank-mobile/2026-05-19/
LOCATION:grounds
CATEGORIES:Special Event!
END:VEVENT
END:VCALENDAR