BEGIN:VCALENDAR
VERSION:2.0
PRODID:-//OUUF - ECPv6.15.20//NONSGML v1.0//EN
CALSCALE:GREGORIAN
METHOD:PUBLISH
X-WR-CALNAME:OUUF
X-ORIGINAL-URL:https://olympicuuf.com
X-WR-CALDESC:Events for OUUF
REFRESH-INTERVAL;VALUE=DURATION:PT1H
X-Robots-Tag:noindex
X-PUBLISHED-TTL:PT1H
BEGIN:VTIMEZONE
TZID:America/Los_Angeles
BEGIN:DAYLIGHT
TZOFFSETFROM:-0800
TZOFFSETTO:-0700
TZNAME:PDT
DTSTART:20250309T100000
END:DAYLIGHT
BEGIN:STANDARD
TZOFFSETFROM:-0700
TZOFFSETTO:-0800
TZNAME:PST
DTSTART:20251102T090000
END:STANDARD
BEGIN:DAYLIGHT
TZOFFSETFROM:-0800
TZOFFSETTO:-0700
TZNAME:PDT
DTSTART:20260308T100000
END:DAYLIGHT
BEGIN:STANDARD
TZOFFSETFROM:-0700
TZOFFSETTO:-0800
TZNAME:PST
DTSTART:20261101T090000
END:STANDARD
BEGIN:DAYLIGHT
TZOFFSETFROM:-0800
TZOFFSETTO:-0700
TZNAME:PDT
DTSTART:20270314T100000
END:DAYLIGHT
BEGIN:STANDARD
TZOFFSETFROM:-0700
TZOFFSETTO:-0800
TZNAME:PST
DTSTART:20271107T090000
END:STANDARD
END:VTIMEZONE
BEGIN:VEVENT
DTSTART;TZID=America/Los_Angeles:20260614T100000
DTEND;TZID=America/Los_Angeles:20260614T110000
DTSTAMP:20260422T153213
CREATED:20251206T211934Z
LAST-MODIFIED:20251206T212130Z
UID:10013268-1781431200-1781434800@olympicuuf.com
SUMMARY:Meeting in Library
DESCRIPTION:Weekly meeting to discuss OUUF business items \nJoan C\,  Dianne  W\,. Elinor T and others
URL:https://olympicuuf.com/event/ouuf-meeting-in-library/2026-06-14/
LOCATION:Library
END:VEVENT
BEGIN:VEVENT
DTSTART;TZID=America/Los_Angeles:20260614T110000
DTEND;TZID=America/Los_Angeles:20260614T130000
DTSTAMP:20260422T153213
CREATED:20241229T015737Z
LAST-MODIFIED:20251216T012422Z
UID:10013873-1781434800-1781442000@olympicuuf.com
SUMMARY:Sunday Service
DESCRIPTION:OUUF Sunday Services feature a rotating group of speakers.\nAttend in-person or via Zoom.\nFor more info\, please visit the OUUF home page or contact the Administrator\nolympicuuf@outlook.com
URL:https://olympicuuf.com/event/sunday-service-3/2026-06-14/
LOCATION:Fellowship Hall
CATEGORIES:OUUF
END:VEVENT
BEGIN:VEVENT
DTSTART;TZID=America/Los_Angeles:20260614T123000
DTEND;TZID=America/Los_Angeles:20260614T143000
DTSTAMP:20260422T153213
CREATED:20251129T143615Z
LAST-MODIFIED:20251129T144905Z
UID:10013184-1781440200-1781447400@olympicuuf.com
SUMMARY:OUUF Board of Trustees Meeting
DESCRIPTION:
URL:https://olympicuuf.com/event/ouuf-board-of-trustees-meeting/2026-06-14/
END:VEVENT
END:VCALENDAR