BEGIN:VCALENDAR
VERSION:2.0
PRODID:-//OUUF - ECPv6.15.20//NONSGML v1.0//EN
CALSCALE:GREGORIAN
METHOD:PUBLISH
X-ORIGINAL-URL:https://olympicuuf.com
X-WR-CALDESC:Events for OUUF
REFRESH-INTERVAL;VALUE=DURATION:PT1H
X-Robots-Tag:noindex
X-PUBLISHED-TTL:PT1H
BEGIN:VTIMEZONE
TZID:America/Los_Angeles
BEGIN:DAYLIGHT
TZOFFSETFROM:-0800
TZOFFSETTO:-0700
TZNAME:PDT
DTSTART:20250309T100000
END:DAYLIGHT
BEGIN:STANDARD
TZOFFSETFROM:-0700
TZOFFSETTO:-0800
TZNAME:PST
DTSTART:20251102T090000
END:STANDARD
BEGIN:DAYLIGHT
TZOFFSETFROM:-0800
TZOFFSETTO:-0700
TZNAME:PDT
DTSTART:20260308T100000
END:DAYLIGHT
BEGIN:STANDARD
TZOFFSETFROM:-0700
TZOFFSETTO:-0800
TZNAME:PST
DTSTART:20261101T090000
END:STANDARD
BEGIN:DAYLIGHT
TZOFFSETFROM:-0800
TZOFFSETTO:-0700
TZNAME:PDT
DTSTART:20270314T100000
END:DAYLIGHT
BEGIN:STANDARD
TZOFFSETFROM:-0700
TZOFFSETTO:-0800
TZNAME:PST
DTSTART:20271107T090000
END:STANDARD
END:VTIMEZONE
BEGIN:VEVENT
DTSTART;TZID=America/Los_Angeles:20260422T093000
DTEND;TZID=America/Los_Angeles:20260422T103000
DTSTAMP:20260422T095454
CREATED:20250916T142022Z
LAST-MODIFIED:20250916T142801Z
UID:10009314-1776850200-1776853800@olympicuuf.com
SUMMARY:SAIL Class - Stay Active and Independent for Life
DESCRIPTION:(9:30-10:30am)\nclasses are opening enrollments for all seniors.\nAll classes are offered on a donation basis.\n*For more information on the dance class and to register please call Marsha Melnick PT\, PhD at 360-808-3109.\nor call Peggy Scheideler PT at 760-518-4181.
URL:https://olympicuuf.com/event/dance-exercise-class-3-3-2/2026-04-22/
LOCATION:Fellowship Hall
END:VEVENT
BEGIN:VEVENT
DTSTART;TZID=America/Los_Angeles:20260422T104500
DTEND;TZID=America/Los_Angeles:20260422T113000
DTSTAMP:20260422T095454
CREATED:20250227T151528Z
LAST-MODIFIED:20250916T145221Z
UID:10012239-1776854700-1776857400@olympicuuf.com
SUMMARY:SAIL - Stay Active and Independent for Life
DESCRIPTION:classes are opening enrollments for all seniors. \nAll classes are offered on a donation basis. \n*For more information  and to register please call Marsha Melnick PT\, PhD at 360-808-3109 or call Peggy Scheideler PT at 760-518-4181.
URL:https://olympicuuf.com/event/tai-ji-quan-2-2/2026-04-22/
END:VEVENT
BEGIN:VEVENT
DTSTART;TZID=America/Los_Angeles:20260422T150000
DTEND;TZID=America/Los_Angeles:20260422T203000
DTSTAMP:20260422T095454
CREATED:20260419T001044Z
LAST-MODIFIED:20260419T001044Z
UID:10016068-1776870000-1776889800@olympicuuf.com
SUMMARY:Red  Ribbon Dinner
DESCRIPTION:
URL:https://olympicuuf.com/event/red-ribbon-dinner/2026-04-22/
END:VEVENT
BEGIN:VEVENT
DTSTART;TZID=America/Los_Angeles:20260423T103000
DTEND;TZID=America/Los_Angeles:20260423T120000
DTSTAMP:20260422T095454
CREATED:20260420T192859Z
LAST-MODIFIED:20260420T192859Z
UID:10016128-1776940200-1776945600@olympicuuf.com
SUMMARY:LeRoy - Organ Repair
DESCRIPTION:
URL:https://olympicuuf.com/event/leroy-organ-repair/
LOCATION:Fellowship Hall
END:VEVENT
BEGIN:VEVENT
DTSTART;TZID=America/Los_Angeles:20260424T183000
DTEND;TZID=America/Los_Angeles:20260424T210000
DTSTAMP:20260422T095454
CREATED:20250208T211829Z
LAST-MODIFIED:20251119T174028Z
UID:10012703-1777055400-1777064400@olympicuuf.com
SUMMARY:NA Meeting
DESCRIPTION:Local Men’s Group meeting of Narcotics Anonymous \nFor more info please visit nopana.org
URL:https://olympicuuf.com/event/na-meeting-10-2/2026-04-24/
LOCATION:Fellowship Hall
END:VEVENT
BEGIN:VEVENT
DTSTART;TZID=America/Los_Angeles:20260425T093000
DTEND;TZID=America/Los_Angeles:20260425T140000
DTSTAMP:20260422T095454
CREATED:20251224T231846Z
LAST-MODIFIED:20260219T005444Z
UID:10014530-1777109400-1777125600@olympicuuf.com
SUMMARY:Song and drum Kinship Circle/Church and Community of the Earth 10am-Noon
DESCRIPTION:CONTACT: ROBIN YOUNGBLOOD
URL:https://olympicuuf.com/event/church-of-the-earth-2/2026-04-25/
END:VEVENT
BEGIN:VEVENT
DTSTART;TZID=America/Los_Angeles:20260426T100000
DTEND;TZID=America/Los_Angeles:20260426T110000
DTSTAMP:20260422T095454
CREATED:20251206T211934Z
LAST-MODIFIED:20251206T212130Z
UID:10013261-1777197600-1777201200@olympicuuf.com
SUMMARY:Meeting in Library
DESCRIPTION:Weekly meeting to discuss OUUF business items \nJoan C\,  Dianne  W\,. Elinor T and others
URL:https://olympicuuf.com/event/ouuf-meeting-in-library/2026-04-26/
LOCATION:Library
END:VEVENT
BEGIN:VEVENT
DTSTART;TZID=America/Los_Angeles:20260426T110000
DTEND;TZID=America/Los_Angeles:20260426T130000
DTSTAMP:20260422T095454
CREATED:20241229T015737Z
LAST-MODIFIED:20251216T012422Z
UID:10013866-1777201200-1777208400@olympicuuf.com
SUMMARY:Sunday Service
DESCRIPTION:OUUF Sunday Services feature a rotating group of speakers.\nAttend in-person or via Zoom.\nFor more info\, please visit the OUUF home page or contact the Administrator\nolympicuuf@outlook.com
URL:https://olympicuuf.com/event/sunday-service-3/2026-04-26/
LOCATION:Fellowship Hall
CATEGORIES:OUUF
END:VEVENT
BEGIN:VEVENT
DTSTART;TZID=America/Los_Angeles:20260426T123000
DTEND;TZID=America/Los_Angeles:20260426T133000
DTSTAMP:20260422T095454
CREATED:20251218T220937Z
LAST-MODIFIED:20251218T220937Z
UID:10014172-1777206600-1777210200@olympicuuf.com
SUMMARY:OUUF Recorder Group
DESCRIPTION:Contact: Candace Brower  candacebrower@gmail.com
URL:https://olympicuuf.com/event/ouuf-recorder-group-2/2026-04-26/
END:VEVENT
BEGIN:VEVENT
DTSTART;TZID=America/Los_Angeles:20260426T150000
DTEND;TZID=America/Los_Angeles:20260426T163000
DTSTAMP:20260422T095454
CREATED:20260324T135954Z
LAST-MODIFIED:20260324T135954Z
UID:10015962-1777215600-1777221000@olympicuuf.com
SUMMARY:Beginning Hebrew Lessons (COBS)
DESCRIPTION:Contact: \n\n\n\nRobert Cheiffetz at robertcheiffetz@gmail.com\n\n  \n\n\n\n 
URL:https://olympicuuf.com/event/beginning-hebrew-lessons-cobs-2/
END:VEVENT
BEGIN:VEVENT
DTSTART;TZID=America/Los_Angeles:20260427T093000
DTEND;TZID=America/Los_Angeles:20260427T103000
DTSTAMP:20260422T095454
CREATED:20250916T143710Z
LAST-MODIFIED:20250916T143711Z
UID:10008607-1777282200-1777285800@olympicuuf.com
SUMMARY:SAIL - Stay Active and Independent for Life
DESCRIPTION:(9:30-10:30am)\nclasses are opening enrollments for all seniors.\nAll classes are offered on a donation basis.\n*For more information  and to register please call Marsha Melnick PT\, PhD at 360-808-3109 or Peggy Scheideler PT at 760-518-4181.
URL:https://olympicuuf.com/event/dance-exercise-class-2025-mondays-4-3/2026-04-27/
LOCATION:Fellowship Hall
END:VEVENT
BEGIN:VEVENT
DTSTART;TZID=America/Los_Angeles:20260427T104500
DTEND;TZID=America/Los_Angeles:20260427T113000
DTSTAMP:20260422T095454
CREATED:20250515T164526Z
LAST-MODIFIED:20250916T144727Z
UID:10011950-1777286700-1777289400@olympicuuf.com
SUMMARY:SAIL - Stay Active and Independent for Life
DESCRIPTION:classes are opening enrollments for all seniors. \nAll classes are offered on a donation basis. \n*For more information and to register please call Marsha Melnick PT\, PhD at 360-808-3109 or call Peggy Scheideler PT at 760-518-4181.
URL:https://olympicuuf.com/event/tai-ji-quan-3-2/2026-04-27/
END:VEVENT
BEGIN:VEVENT
DTSTART;TZID=America/Los_Angeles:20260428T093000
DTEND;TZID=America/Los_Angeles:20260428T113000
DTSTAMP:20260422T095454
CREATED:20260212T171809Z
LAST-MODIFIED:20260212T171809Z
UID:10015519-1777368600-1777375800@olympicuuf.com
SUMMARY:Tai Ji Quan for better balance
DESCRIPTION:classes are opening \nenrollments for all seniors. \n*For more information on the dance class and to register please call Marsha Melnick PT\, PhD at 360-808-3109.\nor call Peggy Scheideler PT at 760-518-4181.
URL:https://olympicuuf.com/event/tai-ji-quan-for-better-balance/2026-04-28/
LOCATION:Fellowship Hall
END:VEVENT
BEGIN:VEVENT
DTSTART;TZID=America/Los_Angeles:20260428T113000
DTEND;TZID=America/Los_Angeles:20260428T133000
DTSTAMP:20260422T095454
CREATED:20260301T162306Z
LAST-MODIFIED:20260301T162306Z
UID:10015602-1777375800-1777383000@olympicuuf.com
SUMMARY:Sequim Food Bank Mobile
DESCRIPTION:Weekly distribution of items.  Mobile unit parked in parking lot close to the handicap parking area. \n 
URL:https://olympicuuf.com/event/sequim-food-bank-mobile/2026-04-28/
LOCATION:grounds
CATEGORIES:Special Event!
END:VEVENT
BEGIN:VEVENT
DTSTART;TZID=America/Los_Angeles:20260428T170000
DTEND;TZID=America/Los_Angeles:20260428T183000
DTSTAMP:20260422T095454
CREATED:20260110T182911Z
LAST-MODIFIED:20260223T175449Z
UID:10015533-1777395600-1777401000@olympicuuf.com
SUMMARY:Kid's Night Out CRE & Family Outreach
DESCRIPTION:contact:  Rose Prestipino
URL:https://olympicuuf.com/event/kids-night-out-cre-family-outreach/2026-04-28/
END:VEVENT
BEGIN:VEVENT
DTSTART;TZID=America/Los_Angeles:20260429T093000
DTEND;TZID=America/Los_Angeles:20260429T103000
DTSTAMP:20260422T095454
CREATED:20250916T142022Z
LAST-MODIFIED:20250916T142801Z
UID:10009315-1777455000-1777458600@olympicuuf.com
SUMMARY:SAIL Class - Stay Active and Independent for Life
DESCRIPTION:(9:30-10:30am)\nclasses are opening enrollments for all seniors.\nAll classes are offered on a donation basis.\n*For more information on the dance class and to register please call Marsha Melnick PT\, PhD at 360-808-3109.\nor call Peggy Scheideler PT at 760-518-4181.
URL:https://olympicuuf.com/event/dance-exercise-class-3-3-2/2026-04-29/
LOCATION:Fellowship Hall
END:VEVENT
BEGIN:VEVENT
DTSTART;TZID=America/Los_Angeles:20260429T104500
DTEND;TZID=America/Los_Angeles:20260429T113000
DTSTAMP:20260422T095454
CREATED:20250227T151528Z
LAST-MODIFIED:20250916T145221Z
UID:10012240-1777459500-1777462200@olympicuuf.com
SUMMARY:SAIL - Stay Active and Independent for Life
DESCRIPTION:classes are opening enrollments for all seniors. \nAll classes are offered on a donation basis. \n*For more information  and to register please call Marsha Melnick PT\, PhD at 360-808-3109 or call Peggy Scheideler PT at 760-518-4181.
URL:https://olympicuuf.com/event/tai-ji-quan-2-2/2026-04-29/
END:VEVENT
END:VCALENDAR