BEGIN:VCALENDAR
VERSION:2.0
PRODID:-//OUUF - ECPv6.15.20//NONSGML v1.0//EN
CALSCALE:GREGORIAN
METHOD:PUBLISH
X-WR-CALNAME:OUUF
X-ORIGINAL-URL:https://olympicuuf.com
X-WR-CALDESC:Events for OUUF
REFRESH-INTERVAL;VALUE=DURATION:PT1H
X-Robots-Tag:noindex
X-PUBLISHED-TTL:PT1H
BEGIN:VTIMEZONE
TZID:America/Los_Angeles
BEGIN:DAYLIGHT
TZOFFSETFROM:-0800
TZOFFSETTO:-0700
TZNAME:PDT
DTSTART:20250309T100000
END:DAYLIGHT
BEGIN:STANDARD
TZOFFSETFROM:-0700
TZOFFSETTO:-0800
TZNAME:PST
DTSTART:20251102T090000
END:STANDARD
BEGIN:DAYLIGHT
TZOFFSETFROM:-0800
TZOFFSETTO:-0700
TZNAME:PDT
DTSTART:20260308T100000
END:DAYLIGHT
BEGIN:STANDARD
TZOFFSETFROM:-0700
TZOFFSETTO:-0800
TZNAME:PST
DTSTART:20261101T090000
END:STANDARD
BEGIN:DAYLIGHT
TZOFFSETFROM:-0800
TZOFFSETTO:-0700
TZNAME:PDT
DTSTART:20270314T100000
END:DAYLIGHT
BEGIN:STANDARD
TZOFFSETFROM:-0700
TZOFFSETTO:-0800
TZNAME:PST
DTSTART:20271107T090000
END:STANDARD
BEGIN:DAYLIGHT
TZOFFSETFROM:-0800
TZOFFSETTO:-0700
TZNAME:PDT
DTSTART:20280312T100000
END:DAYLIGHT
BEGIN:STANDARD
TZOFFSETFROM:-0700
TZOFFSETTO:-0800
TZNAME:PST
DTSTART:20281105T090000
END:STANDARD
BEGIN:DAYLIGHT
TZOFFSETFROM:-0800
TZOFFSETTO:-0700
TZNAME:PDT
DTSTART:20290311T100000
END:DAYLIGHT
BEGIN:STANDARD
TZOFFSETFROM:-0700
TZOFFSETTO:-0800
TZNAME:PST
DTSTART:20291104T090000
END:STANDARD
BEGIN:DAYLIGHT
TZOFFSETFROM:-0800
TZOFFSETTO:-0700
TZNAME:PDT
DTSTART:20300310T100000
END:DAYLIGHT
BEGIN:STANDARD
TZOFFSETFROM:-0700
TZOFFSETTO:-0800
TZNAME:PST
DTSTART:20301103T090000
END:STANDARD
END:VTIMEZONE
BEGIN:VEVENT
DTSTART;TZID=America/Los_Angeles:20260502T093000
DTEND;TZID=America/Los_Angeles:20260502T140000
DTSTAMP:20260422T094654
CREATED:20250423T191005Z
LAST-MODIFIED:20250816T204359Z
UID:10003383-1777714200-1777730400@olympicuuf.com
SUMMARY:North Olympic Shuttle and Spindle Guild
DESCRIPTION:Membership meeting of North Olympic Shuttle and Spindle Guild. \nFor more info please visit nossg.org
URL:https://olympicuuf.com/event/north-olympic-shuttle-and-spindle-guild-12-2/2026-05-02/
END:VEVENT
BEGIN:VEVENT
DTSTART;TZID=America/Los_Angeles:20260801T093000
DTEND;TZID=America/Los_Angeles:20260801T140000
DTSTAMP:20260422T094654
CREATED:20250423T191005Z
LAST-MODIFIED:20250816T204359Z
UID:10003386-1785576600-1785592800@olympicuuf.com
SUMMARY:North Olympic Shuttle and Spindle Guild
DESCRIPTION:Membership meeting of North Olympic Shuttle and Spindle Guild. \nFor more info please visit nossg.org
URL:https://olympicuuf.com/event/north-olympic-shuttle-and-spindle-guild-12-2/2026-08-01/
END:VEVENT
BEGIN:VEVENT
DTSTART;TZID=America/Los_Angeles:20260905T093000
DTEND;TZID=America/Los_Angeles:20260905T140000
DTSTAMP:20260422T094654
CREATED:20250423T191005Z
LAST-MODIFIED:20250816T204359Z
UID:10003387-1788600600-1788616800@olympicuuf.com
SUMMARY:North Olympic Shuttle and Spindle Guild
DESCRIPTION:Membership meeting of North Olympic Shuttle and Spindle Guild. \nFor more info please visit nossg.org
URL:https://olympicuuf.com/event/north-olympic-shuttle-and-spindle-guild-12-2/2026-09-05/
END:VEVENT
BEGIN:VEVENT
DTSTART;TZID=America/Los_Angeles:20261107T093000
DTEND;TZID=America/Los_Angeles:20261107T140000
DTSTAMP:20260422T094654
CREATED:20250423T191005Z
LAST-MODIFIED:20250816T204359Z
UID:10003389-1794043800-1794060000@olympicuuf.com
SUMMARY:North Olympic Shuttle and Spindle Guild
DESCRIPTION:Membership meeting of North Olympic Shuttle and Spindle Guild. \nFor more info please visit nossg.org
URL:https://olympicuuf.com/event/north-olympic-shuttle-and-spindle-guild-12-2/2026-11-07/
END:VEVENT
BEGIN:VEVENT
DTSTART;TZID=America/Los_Angeles:20270102T093000
DTEND;TZID=America/Los_Angeles:20270102T140000
DTSTAMP:20260422T094654
CREATED:20250423T191005Z
LAST-MODIFIED:20250816T204359Z
UID:10003391-1798882200-1798898400@olympicuuf.com
SUMMARY:North Olympic Shuttle and Spindle Guild
DESCRIPTION:Membership meeting of North Olympic Shuttle and Spindle Guild. \nFor more info please visit nossg.org
URL:https://olympicuuf.com/event/north-olympic-shuttle-and-spindle-guild-12-2/2027-01-02/
END:VEVENT
BEGIN:VEVENT
DTSTART;TZID=America/Los_Angeles:20270206T093000
DTEND;TZID=America/Los_Angeles:20270206T140000
DTSTAMP:20260422T094654
CREATED:20250423T191005Z
LAST-MODIFIED:20250816T204359Z
UID:10003392-1801906200-1801922400@olympicuuf.com
SUMMARY:North Olympic Shuttle and Spindle Guild
DESCRIPTION:Membership meeting of North Olympic Shuttle and Spindle Guild. \nFor more info please visit nossg.org
URL:https://olympicuuf.com/event/north-olympic-shuttle-and-spindle-guild-12-2/2027-02-06/
END:VEVENT
BEGIN:VEVENT
DTSTART;TZID=America/Los_Angeles:20270306T093000
DTEND;TZID=America/Los_Angeles:20270306T140000
DTSTAMP:20260422T094654
CREATED:20250423T191005Z
LAST-MODIFIED:20250816T204359Z
UID:10003393-1804325400-1804341600@olympicuuf.com
SUMMARY:North Olympic Shuttle and Spindle Guild
DESCRIPTION:Membership meeting of North Olympic Shuttle and Spindle Guild. \nFor more info please visit nossg.org
URL:https://olympicuuf.com/event/north-olympic-shuttle-and-spindle-guild-12-2/2027-03-06/
END:VEVENT
BEGIN:VEVENT
DTSTART;TZID=America/Los_Angeles:20270403T093000
DTEND;TZID=America/Los_Angeles:20270403T140000
DTSTAMP:20260422T094654
CREATED:20250423T191005Z
LAST-MODIFIED:20250816T204359Z
UID:10003394-1806744600-1806760800@olympicuuf.com
SUMMARY:North Olympic Shuttle and Spindle Guild
DESCRIPTION:Membership meeting of North Olympic Shuttle and Spindle Guild. \nFor more info please visit nossg.org
URL:https://olympicuuf.com/event/north-olympic-shuttle-and-spindle-guild-12-2/2027-04-03/
END:VEVENT
BEGIN:VEVENT
DTSTART;TZID=America/Los_Angeles:20270501T093000
DTEND;TZID=America/Los_Angeles:20270501T140000
DTSTAMP:20260422T094654
CREATED:20250423T191005Z
LAST-MODIFIED:20250816T204359Z
UID:10003395-1809163800-1809180000@olympicuuf.com
SUMMARY:North Olympic Shuttle and Spindle Guild
DESCRIPTION:Membership meeting of North Olympic Shuttle and Spindle Guild. \nFor more info please visit nossg.org
URL:https://olympicuuf.com/event/north-olympic-shuttle-and-spindle-guild-12-2/2027-05-01/
END:VEVENT
BEGIN:VEVENT
DTSTART;TZID=America/Los_Angeles:20270605T093000
DTEND;TZID=America/Los_Angeles:20270605T140000
DTSTAMP:20260422T094654
CREATED:20250423T191005Z
LAST-MODIFIED:20250816T204359Z
UID:10003396-1812187800-1812204000@olympicuuf.com
SUMMARY:North Olympic Shuttle and Spindle Guild
DESCRIPTION:Membership meeting of North Olympic Shuttle and Spindle Guild. \nFor more info please visit nossg.org
URL:https://olympicuuf.com/event/north-olympic-shuttle-and-spindle-guild-12-2/2027-06-05/
END:VEVENT
BEGIN:VEVENT
DTSTART;TZID=America/Los_Angeles:20270703T093000
DTEND;TZID=America/Los_Angeles:20270703T140000
DTSTAMP:20260422T094654
CREATED:20250423T191005Z
LAST-MODIFIED:20250816T204359Z
UID:10003397-1814607000-1814623200@olympicuuf.com
SUMMARY:North Olympic Shuttle and Spindle Guild
DESCRIPTION:Membership meeting of North Olympic Shuttle and Spindle Guild. \nFor more info please visit nossg.org
URL:https://olympicuuf.com/event/north-olympic-shuttle-and-spindle-guild-12-2/2027-07-03/
END:VEVENT
BEGIN:VEVENT
DTSTART;TZID=America/Los_Angeles:20270807T093000
DTEND;TZID=America/Los_Angeles:20270807T140000
DTSTAMP:20260422T094654
CREATED:20250423T191005Z
LAST-MODIFIED:20250816T204359Z
UID:10003398-1817631000-1817647200@olympicuuf.com
SUMMARY:North Olympic Shuttle and Spindle Guild
DESCRIPTION:Membership meeting of North Olympic Shuttle and Spindle Guild. \nFor more info please visit nossg.org
URL:https://olympicuuf.com/event/north-olympic-shuttle-and-spindle-guild-12-2/2027-08-07/
END:VEVENT
BEGIN:VEVENT
DTSTART;TZID=America/Los_Angeles:20270904T093000
DTEND;TZID=America/Los_Angeles:20270904T140000
DTSTAMP:20260422T094654
CREATED:20250423T191005Z
LAST-MODIFIED:20250816T204359Z
UID:10003399-1820050200-1820066400@olympicuuf.com
SUMMARY:North Olympic Shuttle and Spindle Guild
DESCRIPTION:Membership meeting of North Olympic Shuttle and Spindle Guild. \nFor more info please visit nossg.org
URL:https://olympicuuf.com/event/north-olympic-shuttle-and-spindle-guild-12-2/2027-09-04/
END:VEVENT
BEGIN:VEVENT
DTSTART;TZID=America/Los_Angeles:20271002T093000
DTEND;TZID=America/Los_Angeles:20271002T140000
DTSTAMP:20260422T094654
CREATED:20250423T191005Z
LAST-MODIFIED:20250816T204359Z
UID:10003400-1822469400-1822485600@olympicuuf.com
SUMMARY:North Olympic Shuttle and Spindle Guild
DESCRIPTION:Membership meeting of North Olympic Shuttle and Spindle Guild. \nFor more info please visit nossg.org
URL:https://olympicuuf.com/event/north-olympic-shuttle-and-spindle-guild-12-2/2027-10-02/
END:VEVENT
BEGIN:VEVENT
DTSTART;TZID=America/Los_Angeles:20271106T093000
DTEND;TZID=America/Los_Angeles:20271106T140000
DTSTAMP:20260422T094654
CREATED:20250423T191005Z
LAST-MODIFIED:20250816T204359Z
UID:10003401-1825493400-1825509600@olympicuuf.com
SUMMARY:North Olympic Shuttle and Spindle Guild
DESCRIPTION:Membership meeting of North Olympic Shuttle and Spindle Guild. \nFor more info please visit nossg.org
URL:https://olympicuuf.com/event/north-olympic-shuttle-and-spindle-guild-12-2/2027-11-06/
END:VEVENT
BEGIN:VEVENT
DTSTART;TZID=America/Los_Angeles:20271204T093000
DTEND;TZID=America/Los_Angeles:20271204T140000
DTSTAMP:20260422T094654
CREATED:20250423T191005Z
LAST-MODIFIED:20250816T204359Z
UID:10003402-1827912600-1827928800@olympicuuf.com
SUMMARY:North Olympic Shuttle and Spindle Guild
DESCRIPTION:Membership meeting of North Olympic Shuttle and Spindle Guild. \nFor more info please visit nossg.org
URL:https://olympicuuf.com/event/north-olympic-shuttle-and-spindle-guild-12-2/2027-12-04/
END:VEVENT
BEGIN:VEVENT
DTSTART;TZID=America/Los_Angeles:20280101T093000
DTEND;TZID=America/Los_Angeles:20280101T140000
DTSTAMP:20260422T094654
CREATED:20250423T191005Z
LAST-MODIFIED:20250816T204359Z
UID:10003403-1830331800-1830348000@olympicuuf.com
SUMMARY:North Olympic Shuttle and Spindle Guild
DESCRIPTION:Membership meeting of North Olympic Shuttle and Spindle Guild. \nFor more info please visit nossg.org
URL:https://olympicuuf.com/event/north-olympic-shuttle-and-spindle-guild-12-2/2028-01-01/
END:VEVENT
BEGIN:VEVENT
DTSTART;TZID=America/Los_Angeles:20280205T093000
DTEND;TZID=America/Los_Angeles:20280205T140000
DTSTAMP:20260422T094654
CREATED:20250423T191005Z
LAST-MODIFIED:20250816T204359Z
UID:10003404-1833355800-1833372000@olympicuuf.com
SUMMARY:North Olympic Shuttle and Spindle Guild
DESCRIPTION:Membership meeting of North Olympic Shuttle and Spindle Guild. \nFor more info please visit nossg.org
URL:https://olympicuuf.com/event/north-olympic-shuttle-and-spindle-guild-12-2/2028-02-05/
END:VEVENT
BEGIN:VEVENT
DTSTART;TZID=America/Los_Angeles:20280304T093000
DTEND;TZID=America/Los_Angeles:20280304T140000
DTSTAMP:20260422T094654
CREATED:20250423T191005Z
LAST-MODIFIED:20250816T204359Z
UID:10003405-1835775000-1835791200@olympicuuf.com
SUMMARY:North Olympic Shuttle and Spindle Guild
DESCRIPTION:Membership meeting of North Olympic Shuttle and Spindle Guild. \nFor more info please visit nossg.org
URL:https://olympicuuf.com/event/north-olympic-shuttle-and-spindle-guild-12-2/2028-03-04/
END:VEVENT
BEGIN:VEVENT
DTSTART;TZID=America/Los_Angeles:20280401T093000
DTEND;TZID=America/Los_Angeles:20280401T140000
DTSTAMP:20260422T094654
CREATED:20250423T191005Z
LAST-MODIFIED:20250816T204359Z
UID:10003406-1838194200-1838210400@olympicuuf.com
SUMMARY:North Olympic Shuttle and Spindle Guild
DESCRIPTION:Membership meeting of North Olympic Shuttle and Spindle Guild. \nFor more info please visit nossg.org
URL:https://olympicuuf.com/event/north-olympic-shuttle-and-spindle-guild-12-2/2028-04-01/
END:VEVENT
BEGIN:VEVENT
DTSTART;TZID=America/Los_Angeles:20280506T093000
DTEND;TZID=America/Los_Angeles:20280506T140000
DTSTAMP:20260422T094654
CREATED:20250423T191005Z
LAST-MODIFIED:20250816T204359Z
UID:10003407-1841218200-1841234400@olympicuuf.com
SUMMARY:North Olympic Shuttle and Spindle Guild
DESCRIPTION:Membership meeting of North Olympic Shuttle and Spindle Guild. \nFor more info please visit nossg.org
URL:https://olympicuuf.com/event/north-olympic-shuttle-and-spindle-guild-12-2/2028-05-06/
END:VEVENT
BEGIN:VEVENT
DTSTART;TZID=America/Los_Angeles:20280603T093000
DTEND;TZID=America/Los_Angeles:20280603T140000
DTSTAMP:20260422T094654
CREATED:20250423T191005Z
LAST-MODIFIED:20250816T204359Z
UID:10003408-1843637400-1843653600@olympicuuf.com
SUMMARY:North Olympic Shuttle and Spindle Guild
DESCRIPTION:Membership meeting of North Olympic Shuttle and Spindle Guild. \nFor more info please visit nossg.org
URL:https://olympicuuf.com/event/north-olympic-shuttle-and-spindle-guild-12-2/2028-06-03/
END:VEVENT
BEGIN:VEVENT
DTSTART;TZID=America/Los_Angeles:20280701T093000
DTEND;TZID=America/Los_Angeles:20280701T140000
DTSTAMP:20260422T094654
CREATED:20250423T191005Z
LAST-MODIFIED:20250816T204359Z
UID:10003409-1846056600-1846072800@olympicuuf.com
SUMMARY:North Olympic Shuttle and Spindle Guild
DESCRIPTION:Membership meeting of North Olympic Shuttle and Spindle Guild. \nFor more info please visit nossg.org
URL:https://olympicuuf.com/event/north-olympic-shuttle-and-spindle-guild-12-2/2028-07-01/
END:VEVENT
BEGIN:VEVENT
DTSTART;TZID=America/Los_Angeles:20280805T093000
DTEND;TZID=America/Los_Angeles:20280805T140000
DTSTAMP:20260422T094654
CREATED:20250423T191005Z
LAST-MODIFIED:20250816T204359Z
UID:10003410-1849080600-1849096800@olympicuuf.com
SUMMARY:North Olympic Shuttle and Spindle Guild
DESCRIPTION:Membership meeting of North Olympic Shuttle and Spindle Guild. \nFor more info please visit nossg.org
URL:https://olympicuuf.com/event/north-olympic-shuttle-and-spindle-guild-12-2/2028-08-05/
END:VEVENT
BEGIN:VEVENT
DTSTART;TZID=America/Los_Angeles:20280902T093000
DTEND;TZID=America/Los_Angeles:20280902T140000
DTSTAMP:20260422T094654
CREATED:20250423T191005Z
LAST-MODIFIED:20250816T204359Z
UID:10003411-1851499800-1851516000@olympicuuf.com
SUMMARY:North Olympic Shuttle and Spindle Guild
DESCRIPTION:Membership meeting of North Olympic Shuttle and Spindle Guild. \nFor more info please visit nossg.org
URL:https://olympicuuf.com/event/north-olympic-shuttle-and-spindle-guild-12-2/2028-09-02/
END:VEVENT
BEGIN:VEVENT
DTSTART;TZID=America/Los_Angeles:20281007T093000
DTEND;TZID=America/Los_Angeles:20281007T140000
DTSTAMP:20260422T094654
CREATED:20250423T191005Z
LAST-MODIFIED:20250816T204359Z
UID:10003412-1854523800-1854540000@olympicuuf.com
SUMMARY:North Olympic Shuttle and Spindle Guild
DESCRIPTION:Membership meeting of North Olympic Shuttle and Spindle Guild. \nFor more info please visit nossg.org
URL:https://olympicuuf.com/event/north-olympic-shuttle-and-spindle-guild-12-2/2028-10-07/
END:VEVENT
BEGIN:VEVENT
DTSTART;TZID=America/Los_Angeles:20281104T093000
DTEND;TZID=America/Los_Angeles:20281104T140000
DTSTAMP:20260422T094654
CREATED:20250423T191005Z
LAST-MODIFIED:20250816T204359Z
UID:10003413-1856943000-1856959200@olympicuuf.com
SUMMARY:North Olympic Shuttle and Spindle Guild
DESCRIPTION:Membership meeting of North Olympic Shuttle and Spindle Guild. \nFor more info please visit nossg.org
URL:https://olympicuuf.com/event/north-olympic-shuttle-and-spindle-guild-12-2/2028-11-04/
END:VEVENT
BEGIN:VEVENT
DTSTART;TZID=America/Los_Angeles:20281202T093000
DTEND;TZID=America/Los_Angeles:20281202T140000
DTSTAMP:20260422T094654
CREATED:20250423T191005Z
LAST-MODIFIED:20250816T204359Z
UID:10003414-1859362200-1859378400@olympicuuf.com
SUMMARY:North Olympic Shuttle and Spindle Guild
DESCRIPTION:Membership meeting of North Olympic Shuttle and Spindle Guild. \nFor more info please visit nossg.org
URL:https://olympicuuf.com/event/north-olympic-shuttle-and-spindle-guild-12-2/2028-12-02/
END:VEVENT
BEGIN:VEVENT
DTSTART;TZID=America/Los_Angeles:20290106T093000
DTEND;TZID=America/Los_Angeles:20290106T140000
DTSTAMP:20260422T094654
CREATED:20250423T191005Z
LAST-MODIFIED:20250816T204359Z
UID:10003415-1862386200-1862402400@olympicuuf.com
SUMMARY:North Olympic Shuttle and Spindle Guild
DESCRIPTION:Membership meeting of North Olympic Shuttle and Spindle Guild. \nFor more info please visit nossg.org
URL:https://olympicuuf.com/event/north-olympic-shuttle-and-spindle-guild-12-2/2029-01-06/
END:VEVENT
BEGIN:VEVENT
DTSTART;TZID=America/Los_Angeles:20290203T093000
DTEND;TZID=America/Los_Angeles:20290203T140000
DTSTAMP:20260422T094654
CREATED:20250423T191005Z
LAST-MODIFIED:20250816T204359Z
UID:10003416-1864805400-1864821600@olympicuuf.com
SUMMARY:North Olympic Shuttle and Spindle Guild
DESCRIPTION:Membership meeting of North Olympic Shuttle and Spindle Guild. \nFor more info please visit nossg.org
URL:https://olympicuuf.com/event/north-olympic-shuttle-and-spindle-guild-12-2/2029-02-03/
END:VEVENT
END:VCALENDAR