BEGIN:VCALENDAR
VERSION:2.0
PRODID:-//OUUF - ECPv6.15.20//NONSGML v1.0//EN
CALSCALE:GREGORIAN
METHOD:PUBLISH
X-WR-CALNAME:OUUF
X-ORIGINAL-URL:https://olympicuuf.com
X-WR-CALDESC:Events for OUUF
REFRESH-INTERVAL;VALUE=DURATION:PT1H
X-Robots-Tag:noindex
X-PUBLISHED-TTL:PT1H
BEGIN:VTIMEZONE
TZID:America/Los_Angeles
BEGIN:DAYLIGHT
TZOFFSETFROM:-0800
TZOFFSETTO:-0700
TZNAME:PDT
DTSTART:20250309T100000
END:DAYLIGHT
BEGIN:STANDARD
TZOFFSETFROM:-0700
TZOFFSETTO:-0800
TZNAME:PST
DTSTART:20251102T090000
END:STANDARD
BEGIN:DAYLIGHT
TZOFFSETFROM:-0800
TZOFFSETTO:-0700
TZNAME:PDT
DTSTART:20260308T100000
END:DAYLIGHT
BEGIN:STANDARD
TZOFFSETFROM:-0700
TZOFFSETTO:-0800
TZNAME:PST
DTSTART:20261101T090000
END:STANDARD
BEGIN:DAYLIGHT
TZOFFSETFROM:-0800
TZOFFSETTO:-0700
TZNAME:PDT
DTSTART:20270314T100000
END:DAYLIGHT
BEGIN:STANDARD
TZOFFSETFROM:-0700
TZOFFSETTO:-0800
TZNAME:PST
DTSTART:20271107T090000
END:STANDARD
BEGIN:DAYLIGHT
TZOFFSETFROM:-0800
TZOFFSETTO:-0700
TZNAME:PDT
DTSTART:20280312T100000
END:DAYLIGHT
BEGIN:STANDARD
TZOFFSETFROM:-0700
TZOFFSETTO:-0800
TZNAME:PST
DTSTART:20281105T090000
END:STANDARD
BEGIN:DAYLIGHT
TZOFFSETFROM:-0800
TZOFFSETTO:-0700
TZNAME:PDT
DTSTART:20290311T100000
END:DAYLIGHT
BEGIN:STANDARD
TZOFFSETFROM:-0700
TZOFFSETTO:-0800
TZNAME:PST
DTSTART:20291104T090000
END:STANDARD
END:VTIMEZONE
BEGIN:VEVENT
DTSTART;TZID=America/Los_Angeles:20260503T123000
DTEND;TZID=America/Los_Angeles:20260503T133000
DTSTAMP:20260422T111433
CREATED:20251129T144502Z
LAST-MODIFIED:20251129T144502Z
UID:10012868-1777811400-1777815000@olympicuuf.com
SUMMARY:Sunday Services Committee
DESCRIPTION:
URL:https://olympicuuf.com/event/sunday-services-committee/2026-05-03/
END:VEVENT
BEGIN:VEVENT
DTSTART;TZID=America/Los_Angeles:20260607T123000
DTEND;TZID=America/Los_Angeles:20260607T133000
DTSTAMP:20260422T111433
CREATED:20251129T144502Z
LAST-MODIFIED:20251129T144502Z
UID:10012869-1780835400-1780839000@olympicuuf.com
SUMMARY:Sunday Services Committee
DESCRIPTION:
URL:https://olympicuuf.com/event/sunday-services-committee/2026-06-07/
END:VEVENT
BEGIN:VEVENT
DTSTART;TZID=America/Los_Angeles:20260705T123000
DTEND;TZID=America/Los_Angeles:20260705T133000
DTSTAMP:20260422T111433
CREATED:20251129T144502Z
LAST-MODIFIED:20251129T144502Z
UID:10012870-1783254600-1783258200@olympicuuf.com
SUMMARY:Sunday Services Committee
DESCRIPTION:
URL:https://olympicuuf.com/event/sunday-services-committee/2026-07-05/
END:VEVENT
BEGIN:VEVENT
DTSTART;TZID=America/Los_Angeles:20260802T123000
DTEND;TZID=America/Los_Angeles:20260802T133000
DTSTAMP:20260422T111433
CREATED:20251129T144502Z
LAST-MODIFIED:20251129T144502Z
UID:10012871-1785673800-1785677400@olympicuuf.com
SUMMARY:Sunday Services Committee
DESCRIPTION:
URL:https://olympicuuf.com/event/sunday-services-committee/2026-08-02/
END:VEVENT
BEGIN:VEVENT
DTSTART;TZID=America/Los_Angeles:20260906T123000
DTEND;TZID=America/Los_Angeles:20260906T133000
DTSTAMP:20260422T111433
CREATED:20251129T144502Z
LAST-MODIFIED:20251129T144502Z
UID:10012872-1788697800-1788701400@olympicuuf.com
SUMMARY:Sunday Services Committee
DESCRIPTION:
URL:https://olympicuuf.com/event/sunday-services-committee/2026-09-06/
END:VEVENT
BEGIN:VEVENT
DTSTART;TZID=America/Los_Angeles:20261004T123000
DTEND;TZID=America/Los_Angeles:20261004T133000
DTSTAMP:20260422T111433
CREATED:20251129T144502Z
LAST-MODIFIED:20251129T144502Z
UID:10012873-1791117000-1791120600@olympicuuf.com
SUMMARY:Sunday Services Committee
DESCRIPTION:
URL:https://olympicuuf.com/event/sunday-services-committee/2026-10-04/
END:VEVENT
BEGIN:VEVENT
DTSTART;TZID=America/Los_Angeles:20261101T123000
DTEND;TZID=America/Los_Angeles:20261101T133000
DTSTAMP:20260422T111433
CREATED:20251129T144502Z
LAST-MODIFIED:20251129T144502Z
UID:10012874-1793536200-1793539800@olympicuuf.com
SUMMARY:Sunday Services Committee
DESCRIPTION:
URL:https://olympicuuf.com/event/sunday-services-committee/2026-11-01/
END:VEVENT
BEGIN:VEVENT
DTSTART;TZID=America/Los_Angeles:20261206T123000
DTEND;TZID=America/Los_Angeles:20261206T133000
DTSTAMP:20260422T111433
CREATED:20251129T144502Z
LAST-MODIFIED:20251129T144502Z
UID:10012875-1796560200-1796563800@olympicuuf.com
SUMMARY:Sunday Services Committee
DESCRIPTION:
URL:https://olympicuuf.com/event/sunday-services-committee/2026-12-06/
END:VEVENT
BEGIN:VEVENT
DTSTART;TZID=America/Los_Angeles:20270103T123000
DTEND;TZID=America/Los_Angeles:20270103T133000
DTSTAMP:20260422T111433
CREATED:20251129T144502Z
LAST-MODIFIED:20251129T144502Z
UID:10012876-1798979400-1798983000@olympicuuf.com
SUMMARY:Sunday Services Committee
DESCRIPTION:
URL:https://olympicuuf.com/event/sunday-services-committee/2027-01-03/
END:VEVENT
BEGIN:VEVENT
DTSTART;TZID=America/Los_Angeles:20270207T123000
DTEND;TZID=America/Los_Angeles:20270207T133000
DTSTAMP:20260422T111433
CREATED:20251129T144502Z
LAST-MODIFIED:20251129T144502Z
UID:10012877-1802003400-1802007000@olympicuuf.com
SUMMARY:Sunday Services Committee
DESCRIPTION:
URL:https://olympicuuf.com/event/sunday-services-committee/2027-02-07/
END:VEVENT
BEGIN:VEVENT
DTSTART;TZID=America/Los_Angeles:20270307T123000
DTEND;TZID=America/Los_Angeles:20270307T133000
DTSTAMP:20260422T111433
CREATED:20251129T144502Z
LAST-MODIFIED:20251129T144502Z
UID:10012878-1804422600-1804426200@olympicuuf.com
SUMMARY:Sunday Services Committee
DESCRIPTION:
URL:https://olympicuuf.com/event/sunday-services-committee/2027-03-07/
END:VEVENT
BEGIN:VEVENT
DTSTART;TZID=America/Los_Angeles:20270404T123000
DTEND;TZID=America/Los_Angeles:20270404T133000
DTSTAMP:20260422T111433
CREATED:20251129T144502Z
LAST-MODIFIED:20251129T144502Z
UID:10012879-1806841800-1806845400@olympicuuf.com
SUMMARY:Sunday Services Committee
DESCRIPTION:
URL:https://olympicuuf.com/event/sunday-services-committee/2027-04-04/
END:VEVENT
BEGIN:VEVENT
DTSTART;TZID=America/Los_Angeles:20270502T123000
DTEND;TZID=America/Los_Angeles:20270502T133000
DTSTAMP:20260422T111433
CREATED:20251129T144502Z
LAST-MODIFIED:20251129T144502Z
UID:10012880-1809261000-1809264600@olympicuuf.com
SUMMARY:Sunday Services Committee
DESCRIPTION:
URL:https://olympicuuf.com/event/sunday-services-committee/2027-05-02/
END:VEVENT
BEGIN:VEVENT
DTSTART;TZID=America/Los_Angeles:20270606T123000
DTEND;TZID=America/Los_Angeles:20270606T133000
DTSTAMP:20260422T111433
CREATED:20251129T144502Z
LAST-MODIFIED:20251129T144502Z
UID:10012881-1812285000-1812288600@olympicuuf.com
SUMMARY:Sunday Services Committee
DESCRIPTION:
URL:https://olympicuuf.com/event/sunday-services-committee/2027-06-06/
END:VEVENT
BEGIN:VEVENT
DTSTART;TZID=America/Los_Angeles:20270704T123000
DTEND;TZID=America/Los_Angeles:20270704T133000
DTSTAMP:20260422T111433
CREATED:20251129T144502Z
LAST-MODIFIED:20251129T144502Z
UID:10012882-1814704200-1814707800@olympicuuf.com
SUMMARY:Sunday Services Committee
DESCRIPTION:
URL:https://olympicuuf.com/event/sunday-services-committee/2027-07-04/
END:VEVENT
BEGIN:VEVENT
DTSTART;TZID=America/Los_Angeles:20270801T123000
DTEND;TZID=America/Los_Angeles:20270801T133000
DTSTAMP:20260422T111433
CREATED:20251129T144502Z
LAST-MODIFIED:20251129T144502Z
UID:10012883-1817123400-1817127000@olympicuuf.com
SUMMARY:Sunday Services Committee
DESCRIPTION:
URL:https://olympicuuf.com/event/sunday-services-committee/2027-08-01/
END:VEVENT
BEGIN:VEVENT
DTSTART;TZID=America/Los_Angeles:20270905T123000
DTEND;TZID=America/Los_Angeles:20270905T133000
DTSTAMP:20260422T111433
CREATED:20251129T144502Z
LAST-MODIFIED:20251129T144502Z
UID:10012884-1820147400-1820151000@olympicuuf.com
SUMMARY:Sunday Services Committee
DESCRIPTION:
URL:https://olympicuuf.com/event/sunday-services-committee/2027-09-05/
END:VEVENT
BEGIN:VEVENT
DTSTART;TZID=America/Los_Angeles:20271003T123000
DTEND;TZID=America/Los_Angeles:20271003T133000
DTSTAMP:20260422T111433
CREATED:20251129T144502Z
LAST-MODIFIED:20251129T144502Z
UID:10012885-1822566600-1822570200@olympicuuf.com
SUMMARY:Sunday Services Committee
DESCRIPTION:
URL:https://olympicuuf.com/event/sunday-services-committee/2027-10-03/
END:VEVENT
BEGIN:VEVENT
DTSTART;TZID=America/Los_Angeles:20271107T123000
DTEND;TZID=America/Los_Angeles:20271107T133000
DTSTAMP:20260422T111433
CREATED:20251129T144502Z
LAST-MODIFIED:20251129T144502Z
UID:10012886-1825590600-1825594200@olympicuuf.com
SUMMARY:Sunday Services Committee
DESCRIPTION:
URL:https://olympicuuf.com/event/sunday-services-committee/2027-11-07/
END:VEVENT
BEGIN:VEVENT
DTSTART;TZID=America/Los_Angeles:20271205T123000
DTEND;TZID=America/Los_Angeles:20271205T133000
DTSTAMP:20260422T111433
CREATED:20251129T144502Z
LAST-MODIFIED:20251129T144502Z
UID:10012887-1828009800-1828013400@olympicuuf.com
SUMMARY:Sunday Services Committee
DESCRIPTION:
URL:https://olympicuuf.com/event/sunday-services-committee/2027-12-05/
END:VEVENT
BEGIN:VEVENT
DTSTART;TZID=America/Los_Angeles:20280102T123000
DTEND;TZID=America/Los_Angeles:20280102T133000
DTSTAMP:20260422T111433
CREATED:20251129T144502Z
LAST-MODIFIED:20251129T144502Z
UID:10012888-1830429000-1830432600@olympicuuf.com
SUMMARY:Sunday Services Committee
DESCRIPTION:
URL:https://olympicuuf.com/event/sunday-services-committee/2028-01-02/
END:VEVENT
BEGIN:VEVENT
DTSTART;TZID=America/Los_Angeles:20280206T123000
DTEND;TZID=America/Los_Angeles:20280206T133000
DTSTAMP:20260422T111433
CREATED:20251129T144502Z
LAST-MODIFIED:20251129T144502Z
UID:10012889-1833453000-1833456600@olympicuuf.com
SUMMARY:Sunday Services Committee
DESCRIPTION:
URL:https://olympicuuf.com/event/sunday-services-committee/2028-02-06/
END:VEVENT
BEGIN:VEVENT
DTSTART;TZID=America/Los_Angeles:20280305T123000
DTEND;TZID=America/Los_Angeles:20280305T133000
DTSTAMP:20260422T111433
CREATED:20251129T144502Z
LAST-MODIFIED:20251129T144502Z
UID:10012890-1835872200-1835875800@olympicuuf.com
SUMMARY:Sunday Services Committee
DESCRIPTION:
URL:https://olympicuuf.com/event/sunday-services-committee/2028-03-05/
END:VEVENT
BEGIN:VEVENT
DTSTART;TZID=America/Los_Angeles:20280402T123000
DTEND;TZID=America/Los_Angeles:20280402T133000
DTSTAMP:20260422T111433
CREATED:20251129T144502Z
LAST-MODIFIED:20251129T144502Z
UID:10012891-1838291400-1838295000@olympicuuf.com
SUMMARY:Sunday Services Committee
DESCRIPTION:
URL:https://olympicuuf.com/event/sunday-services-committee/2028-04-02/
END:VEVENT
BEGIN:VEVENT
DTSTART;TZID=America/Los_Angeles:20280507T123000
DTEND;TZID=America/Los_Angeles:20280507T133000
DTSTAMP:20260422T111433
CREATED:20251129T144502Z
LAST-MODIFIED:20251129T144502Z
UID:10012892-1841315400-1841319000@olympicuuf.com
SUMMARY:Sunday Services Committee
DESCRIPTION:
URL:https://olympicuuf.com/event/sunday-services-committee/2028-05-07/
END:VEVENT
BEGIN:VEVENT
DTSTART;TZID=America/Los_Angeles:20280604T123000
DTEND;TZID=America/Los_Angeles:20280604T133000
DTSTAMP:20260422T111433
CREATED:20251129T144502Z
LAST-MODIFIED:20251129T144502Z
UID:10012893-1843734600-1843738200@olympicuuf.com
SUMMARY:Sunday Services Committee
DESCRIPTION:
URL:https://olympicuuf.com/event/sunday-services-committee/2028-06-04/
END:VEVENT
BEGIN:VEVENT
DTSTART;TZID=America/Los_Angeles:20280702T123000
DTEND;TZID=America/Los_Angeles:20280702T133000
DTSTAMP:20260422T111433
CREATED:20251129T144502Z
LAST-MODIFIED:20251129T144502Z
UID:10012894-1846153800-1846157400@olympicuuf.com
SUMMARY:Sunday Services Committee
DESCRIPTION:
URL:https://olympicuuf.com/event/sunday-services-committee/2028-07-02/
END:VEVENT
BEGIN:VEVENT
DTSTART;TZID=America/Los_Angeles:20280806T123000
DTEND;TZID=America/Los_Angeles:20280806T133000
DTSTAMP:20260422T111433
CREATED:20251129T144502Z
LAST-MODIFIED:20251129T144502Z
UID:10012895-1849177800-1849181400@olympicuuf.com
SUMMARY:Sunday Services Committee
DESCRIPTION:
URL:https://olympicuuf.com/event/sunday-services-committee/2028-08-06/
END:VEVENT
BEGIN:VEVENT
DTSTART;TZID=America/Los_Angeles:20280903T123000
DTEND;TZID=America/Los_Angeles:20280903T133000
DTSTAMP:20260422T111433
CREATED:20251129T144502Z
LAST-MODIFIED:20251129T144502Z
UID:10012896-1851597000-1851600600@olympicuuf.com
SUMMARY:Sunday Services Committee
DESCRIPTION:
URL:https://olympicuuf.com/event/sunday-services-committee/2028-09-03/
END:VEVENT
BEGIN:VEVENT
DTSTART;TZID=America/Los_Angeles:20281001T123000
DTEND;TZID=America/Los_Angeles:20281001T133000
DTSTAMP:20260422T111433
CREATED:20251129T144502Z
LAST-MODIFIED:20251129T144502Z
UID:10012897-1854016200-1854019800@olympicuuf.com
SUMMARY:Sunday Services Committee
DESCRIPTION:
URL:https://olympicuuf.com/event/sunday-services-committee/2028-10-01/
END:VEVENT
END:VCALENDAR